BEGIN:VCALENDAR
VERSION:2.0
PRODID:-//St.-Landolinus-Schützenbruderschaft Boke e. V. - ECPv6.6.0.2//NONSGML v1.0//EN
CALSCALE:GREGORIAN
METHOD:PUBLISH
X-ORIGINAL-URL:https://www.schuetzen-boke.de
X-WR-CALDESC:Veranstaltungen für St.-Landolinus-Schützenbruderschaft Boke e. V.
REFRESH-INTERVAL;VALUE=DURATION:PT1H
X-Robots-Tag:noindex
X-PUBLISHED-TTL:PT1H
BEGIN:VTIMEZONE
TZID:Europe/Berlin
BEGIN:DAYLIGHT
TZOFFSETFROM:+0100
TZOFFSETTO:+0200
TZNAME:CEST
DTSTART:20240331T010000
END:DAYLIGHT
BEGIN:STANDARD
TZOFFSETFROM:+0200
TZOFFSETTO:+0100
TZNAME:CET
DTSTART:20241027T010000
END:STANDARD
END:VTIMEZONE
BEGIN:VEVENT
DTSTART;TZID=Europe/Berlin:20240727T140000
DTEND;TZID=Europe/Berlin:20240727T140000
DTSTAMP:20260422T224540
CREATED:20240109T184957Z
LAST-MODIFIED:20240722T121753Z
UID:538-1722088800-1722088800@www.schuetzen-boke.de
SUMMARY:Vogelschießen in Boke
DESCRIPTION:Samstag\, 27. Juli 2024 \n  \n14:00          Gottesdienst für die lebenden und verstorbenen Mitglieder der Schützenbruderschaft und der Kameradschaft ehemaliger Soldaten \n14:45          Antreten auf dem Kirchplatz und Abmarsch zum König Daniel Kößmeier \n16:30          Vogelschießen der Jungschützen. Anschließend Proklamation des Jungschützenkönigs \n17:30          Beginn des Vogelschießens der Altschützen. Anschließend Proklamation des Königspaares \n20:00          Tanzabend im Bürgerhaus mit DJ Daniel Peitz
URL:https://www.schuetzen-boke.de/termin/vogelschiessen-in-boke-2/
ATTACH;FMTTYPE=image/jpeg:https://www.schuetzen-boke.de/wp-content/uploads/2024/07/5fe6c652-2b10-44a3-87ae-ac395a19c6c4.jpg
END:VEVENT
END:VCALENDAR