BEGIN:VCALENDAR
VERSION:2.0
PRODID:-//St.-Landolinus-Schützenbruderschaft Boke e. V. - ECPv6.6.0.2//NONSGML v1.0//EN
CALSCALE:GREGORIAN
METHOD:PUBLISH
X-ORIGINAL-URL:https://www.schuetzen-boke.de
X-WR-CALDESC:Veranstaltungen für St.-Landolinus-Schützenbruderschaft Boke e. V.
REFRESH-INTERVAL;VALUE=DURATION:PT1H
X-Robots-Tag:noindex
X-PUBLISHED-TTL:PT1H
BEGIN:VTIMEZONE
TZID:Europe/Berlin
BEGIN:DAYLIGHT
TZOFFSETFROM:+0100
TZOFFSETTO:+0200
TZNAME:CEST
DTSTART:20240331T010000
END:DAYLIGHT
BEGIN:STANDARD
TZOFFSETFROM:+0200
TZOFFSETTO:+0100
TZNAME:CET
DTSTART:20241027T010000
END:STANDARD
END:VTIMEZONE
BEGIN:VEVENT
DTSTART;VALUE=DATE:20240928
DTEND;VALUE=DATE:20240929
DTSTAMP:20260422T193554
CREATED:20240109T185012Z
LAST-MODIFIED:20240918T162523Z
UID:544-1727506800-1727506800@www.schuetzen-boke.de
SUMMARY:Bezirksverbandstag in Thüle
DESCRIPTION:Programm\ndes Bezirksverbandstages am 28. September 2024\n13:30 Uhr Eintreffen\n14:00 Uhr Festgottesdienst mit Segnung der neuen Bezirkskönigskette\n15:30 Uhr Eröffnung und Begrüßungen\, Amtsübergabe u. Verabschiedung der ausscheidenden Vorstandsmitglieder\n16:00 Uhr Auslosung der Reihenfolge zum Königsschießen\n16:15 Uhr Grußworte\n16:45 Uhr Beginn der Mitgliederversammlung\nTagesordnung:\n1. Formalien\n2. Berichte\n• Bericht des Bezirksschießmeisters\n• Bericht des Bezirksjungschützenmeisters\n3. Termine\n4. Sonstiges / Verschiedenes\n17:15 Uhr Rahmenprogramm / Unterhaltung\n18:30 Uhr Bekanntgabe der Ergebnisse\, Proklamation / Ehrung der neuen Bezirkskönige\n19:30 Uhr Ausklang und Verabschiedung
URL:https://www.schuetzen-boke.de/termin/bezirksverbandstag-in-thuele-2/
END:VEVENT
END:VCALENDAR