BEGIN:VCALENDAR
VERSION:2.0
PRODID:-//St.-Landolinus-Schützenbruderschaft Boke e. V. - ECPv6.6.0.2//NONSGML v1.0//EN
CALSCALE:GREGORIAN
METHOD:PUBLISH
X-ORIGINAL-URL:https://www.schuetzen-boke.de
X-WR-CALDESC:Veranstaltungen für St.-Landolinus-Schützenbruderschaft Boke e. V.
REFRESH-INTERVAL;VALUE=DURATION:PT1H
X-Robots-Tag:noindex
X-PUBLISHED-TTL:PT1H
BEGIN:VTIMEZONE
TZID:Europe/Berlin
BEGIN:DAYLIGHT
TZOFFSETFROM:+0100
TZOFFSETTO:+0200
TZNAME:CEST
DTSTART:20250330T010000
END:DAYLIGHT
BEGIN:STANDARD
TZOFFSETFROM:+0200
TZOFFSETTO:+0100
TZNAME:CET
DTSTART:20251026T010000
END:STANDARD
END:VTIMEZONE
BEGIN:VEVENT
DTSTART;TZID=Europe/Berlin:20250224T140000
DTEND;TZID=Europe/Berlin:20250224T140000
DTSTAMP:20260422T092845
CREATED:20250221T185232Z
LAST-MODIFIED:20250221T185450Z
UID:14777-1740405600-1740405600@www.schuetzen-boke.de
SUMMARY:Beisetzung Klaus Glahe
DESCRIPTION:Die Schützenbruderschaft nimmt am Montag\, den 24. Februar an der Beisetzung von dem Schützenbruder Klaus Glahe teil. \nUm 14 Uhr beginnt der Wortgottesdienst in der Kirche\, anschließend ist die Beisetzung auf dem Friedhof. \nAlle Mitglieder der Schützenbruderschaft sind eingeladen an der Beisetzung in Uniform teilzunehmen.
URL:https://www.schuetzen-boke.de/termin/beisetzung-klaus-glahe/
END:VEVENT
END:VCALENDAR