BEGIN:VCALENDAR
VERSION:2.0
PRODID:-//St.-Landolinus-Schützenbruderschaft Boke e. V. - ECPv6.6.0.2//NONSGML v1.0//EN
CALSCALE:GREGORIAN
METHOD:PUBLISH
X-WR-CALNAME:St.-Landolinus-Schützenbruderschaft Boke e. V.
X-ORIGINAL-URL:https://www.schuetzen-boke.de
X-WR-CALDESC:Veranstaltungen für St.-Landolinus-Schützenbruderschaft Boke e. V.
REFRESH-INTERVAL;VALUE=DURATION:PT1H
X-Robots-Tag:noindex
X-PUBLISHED-TTL:PT1H
BEGIN:VTIMEZONE
TZID:Europe/Berlin
BEGIN:DAYLIGHT
TZOFFSETFROM:+0100
TZOFFSETTO:+0200
TZNAME:CEST
DTSTART:20260329T010000
END:DAYLIGHT
BEGIN:STANDARD
TZOFFSETFROM:+0200
TZOFFSETTO:+0100
TZNAME:CET
DTSTART:20261025T010000
END:STANDARD
END:VTIMEZONE
BEGIN:VEVENT
DTSTART;VALUE=DATE:20260810
DTEND;VALUE=DATE:20260812
DTSTAMP:20260421T181652
CREATED:20250923T120638Z
LAST-MODIFIED:20250923T120638Z
UID:16974-1786345200-1786431599@www.schuetzen-boke.de
SUMMARY:Schützenfest in Boke
DESCRIPTION:
URL:https://www.schuetzen-boke.de/termin/schuetzenfest-in-boke-7/
LOCATION:Boker Straße 99\, 33129 Delbrück-Boke\, Boker Straße 99\, Delbrück - Boke\, 33129\, Deutschland
END:VEVENT
END:VCALENDAR