BEGIN:VCALENDAR
VERSION:2.0
PRODID:-//St.-Landolinus-Schützenbruderschaft Boke e. V. - ECPv6.6.0.2//NONSGML v1.0//EN
CALSCALE:GREGORIAN
METHOD:PUBLISH
X-WR-CALNAME:St.-Landolinus-Schützenbruderschaft Boke e. V.
X-ORIGINAL-URL:https://www.schuetzen-boke.de
X-WR-CALDESC:Veranstaltungen für St.-Landolinus-Schützenbruderschaft Boke e. V.
REFRESH-INTERVAL;VALUE=DURATION:PT1H
X-Robots-Tag:noindex
X-PUBLISHED-TTL:PT1H
BEGIN:VTIMEZONE
TZID:Europe/Berlin
BEGIN:DAYLIGHT
TZOFFSETFROM:+0100
TZOFFSETTO:+0200
TZNAME:CEST
DTSTART:20250330T010000
END:DAYLIGHT
BEGIN:STANDARD
TZOFFSETFROM:+0200
TZOFFSETTO:+0100
TZNAME:CET
DTSTART:20251026T010000
END:STANDARD
BEGIN:DAYLIGHT
TZOFFSETFROM:+0100
TZOFFSETTO:+0200
TZNAME:CEST
DTSTART:20260329T010000
END:DAYLIGHT
BEGIN:STANDARD
TZOFFSETFROM:+0200
TZOFFSETTO:+0100
TZNAME:CET
DTSTART:20261025T010000
END:STANDARD
END:VTIMEZONE
BEGIN:VEVENT
DTSTART;VALUE=DATE:20260418
DTEND;VALUE=DATE:20260420
DTSTAMP:20260421T090342
CREATED:20251013T072212Z
LAST-MODIFIED:20251013T072212Z
UID:17012-1776495600-1776581999@www.schuetzen-boke.de
SUMMARY:Bezirksjungschützentag in Oberntudorf
DESCRIPTION:
URL:https://www.schuetzen-boke.de/termin/bezirksjungschuetzentag-in-oberntudorf/
END:VEVENT
BEGIN:VEVENT
DTSTART;VALUE=DATE:20260415
DTEND;VALUE=DATE:20260417
DTSTAMP:20260421T090342
CREATED:20250923T111847Z
LAST-MODIFIED:20250923T111847Z
UID:16958-1776236400-1776322799@www.schuetzen-boke.de
SUMMARY:Stadtobristentreffen
DESCRIPTION:
URL:https://www.schuetzen-boke.de/termin/stadtobristentreffen/
END:VEVENT
BEGIN:VEVENT
DTSTART;VALUE=DATE:20260307
DTEND;VALUE=DATE:20260309
DTSTAMP:20260421T090342
CREATED:20251203T122146Z
LAST-MODIFIED:20251203T122146Z
UID:17072-1772866800-1772953199@www.schuetzen-boke.de
SUMMARY:Jahreshauptversammlung im Pfarrheim
DESCRIPTION:
URL:https://www.schuetzen-boke.de/termin/jahreshauptversammlung-im-pfarrheim/
LOCATION:Pharrheim Boke\, Quérénaingweg\, Quérénaingweg\, Delbrück - Boke\, 33129\, Deutschland
END:VEVENT
BEGIN:VEVENT
DTSTART;VALUE=DATE:20260303
DTEND;VALUE=DATE:20260305
DTSTAMP:20260421T090342
CREATED:20250923T111648Z
LAST-MODIFIED:20251203T205145Z
UID:16956-1772521200-1772607599@www.schuetzen-boke.de
SUMMARY:Vereinsmeisterschaft Tag 2
DESCRIPTION:
URL:https://www.schuetzen-boke.de/termin/vereinsmeisterschaft-tag-2/
END:VEVENT
BEGIN:VEVENT
DTSTART;VALUE=DATE:20260224
DTEND;VALUE=DATE:20260226
DTSTAMP:20260421T090342
CREATED:20250923T111616Z
LAST-MODIFIED:20251203T205111Z
UID:16954-1771916400-1772002799@www.schuetzen-boke.de
SUMMARY:Vereinsmeisterschaft Tag 1
DESCRIPTION:
URL:https://www.schuetzen-boke.de/termin/vereinsmeisterschaft-tag-1/
END:VEVENT
BEGIN:VEVENT
DTSTART;TZID=Europe/Berlin:20260211T140000
DTEND;TZID=Europe/Berlin:20260211T140000
DTSTAMP:20260421T090342
CREATED:20260203T092311Z
LAST-MODIFIED:20260203T092311Z
UID:17127-1770818400-1770818400@www.schuetzen-boke.de
SUMMARY:Beisetzung Alfons Höber
DESCRIPTION:
URL:https://www.schuetzen-boke.de/termin/beisetzung-alfons-hoeber/
END:VEVENT
BEGIN:VEVENT
DTSTART;TZID=Europe/Berlin:20260207T090000
DTEND;TZID=Europe/Berlin:20260207T090000
DTSTAMP:20260421T090342
CREATED:20260130T185643Z
LAST-MODIFIED:20260130T185643Z
UID:17125-1770454800-1770454800@www.schuetzen-boke.de
SUMMARY:Beisetzung Norbert Jürgensmeier
DESCRIPTION:
URL:https://www.schuetzen-boke.de/termin/beisetzung-norbert-juergensmeier/
END:VEVENT
BEGIN:VEVENT
DTSTART;VALUE=DATE:20260117
DTEND;VALUE=DATE:20260119
DTSTAMP:20260421T090342
CREATED:20250923T111351Z
LAST-MODIFIED:20251120T173412Z
UID:16952-1768633200-1768719599@www.schuetzen-boke.de
SUMMARY:Dreikönigsball in Boke
DESCRIPTION:
URL:https://www.schuetzen-boke.de/termin/dreikoenigsball-in-boke/
ATTACH;FMTTYPE=image/jpeg:https://www.schuetzen-boke.de/wp-content/uploads/2025/09/IMG_5194-scaled.jpg
END:VEVENT
BEGIN:VEVENT
DTSTART;VALUE=DATE:20251207
DTEND;VALUE=DATE:20251209
DTSTAMP:20260421T090342
CREATED:20240925T063834Z
LAST-MODIFIED:20240925T063834Z
UID:14510-1765090800-1765177199@www.schuetzen-boke.de
SUMMARY:Besuch Kinderhospital Osnabrück
DESCRIPTION:
URL:https://www.schuetzen-boke.de/termin/besuch-kinderhospital-osnabrueck-2/
END:VEVENT
BEGIN:VEVENT
DTSTART;VALUE=DATE:20251116
DTEND;VALUE=DATE:20251118
DTSTAMP:20260421T090342
CREATED:20240925T063834Z
LAST-MODIFIED:20240925T063834Z
UID:14509-1763276400-1763362799@www.schuetzen-boke.de
SUMMARY:Volkstrauertag
DESCRIPTION:
URL:https://www.schuetzen-boke.de/termin/volkstrauertag-2/
END:VEVENT
BEGIN:VEVENT
DTSTART;VALUE=DATE:20251108
DTEND;VALUE=DATE:20251110
DTSTAMP:20260421T090342
CREATED:20251026T074034Z
LAST-MODIFIED:20251026T074034Z
UID:17019-1762585200-1762671599@www.schuetzen-boke.de
SUMMARY:Ottensmeier Pokalschießen
DESCRIPTION:
URL:https://www.schuetzen-boke.de/termin/ottensmeier-pokalschiessen-3/
END:VEVENT
BEGIN:VEVENT
DTSTART;VALUE=DATE:20251025
DTEND;VALUE=DATE:20251027
DTSTAMP:20260421T090342
CREATED:20240925T063834Z
LAST-MODIFIED:20241019T095415Z
UID:14507-1761375600-1761461999@www.schuetzen-boke.de
SUMMARY:Kreisschützenball
DESCRIPTION:
URL:https://www.schuetzen-boke.de/termin/kreisschuetzenball-3/
END:VEVENT
BEGIN:VEVENT
DTSTART;VALUE=DATE:20250927
DTEND;VALUE=DATE:20250929
DTSTAMP:20260421T090342
CREATED:20240925T063834Z
LAST-MODIFIED:20250912T175104Z
UID:14506-1758956400-1759042799@www.schuetzen-boke.de
SUMMARY:Bezirksverbandstag in Bentfeld
DESCRIPTION:Programmablauf:\n\n\n\n\n\n\n\n\n15.00 Uhr\nEintreffen an der St. Dionysius-Kirche\, Bentfelder Str. 73a\n\n\n15.30 Uhr\nEinzug der Fahnen und Beginn Festgottestdien1.3st\n\n\n16.30 Uhr\nMarsch zur Mehrzweckhalle\, Mühlenweg 5\n\n\n17.00 Uhr\nBeginn des Bezirksverbandstages in der Mehrzweckhalle\n\n\n17.20 Uhr\nNationalhymne • Eröffnung und Begrüßung • Auslosung der Reihenfolge der startberechtigten Könige • Beginn des Bezirksschießens\n\n\n17.30 Uhr\nGrußworte der Ehrengäste\, Beginn der Mitgliederversammlung\n\n\n \n \n\n\n \nTagesordnung\n\n\n \n1. Begrüßung\n\n\n \n2. Totengedenken\n\n\n \n3. Berichte\n\n\n \n3a. Bericht des Bezirksschießmeisters\n\n\n \n3b. Bericht des Bezirksjungschützenmeisters\n\n\n \n4. Termine 2025/2026\n\n\n \n5. Sonstiges/Verschiedenes\n\n\n \n \n\n\n19.00 Uhr\nBekanntgabe der Schießergebnisse Bezirkskönigschießen\n\n\n19.30 Uhr\nProklamation & Standartenübergabe\n\n\n20.00 Uhr\nAbschluss und offizielles Ende Bezirksverbandstag/Bezirkskönigschießen
URL:https://www.schuetzen-boke.de/termin/katharinenmarkt-umzug-3/
END:VEVENT
BEGIN:VEVENT
DTSTART;VALUE=DATE:20250907
DTEND;VALUE=DATE:20250909
DTSTAMP:20260421T090342
CREATED:20240925T063833Z
LAST-MODIFIED:20240925T063833Z
UID:14505-1757228400-1757314799@www.schuetzen-boke.de
SUMMARY:Kreisschützenfest in Büren
DESCRIPTION:
URL:https://www.schuetzen-boke.de/termin/kreisschuetzenfest-in-bueren/
END:VEVENT
BEGIN:VEVENT
DTSTART;VALUE=DATE:20250823
DTEND;VALUE=DATE:20250825
DTSTAMP:20260421T090342
CREATED:20240925T063833Z
LAST-MODIFIED:20240925T063833Z
UID:14504-1755932400-1756018799@www.schuetzen-boke.de
SUMMARY:Ausmarsch Schützenfest Holsen
DESCRIPTION:
URL:https://www.schuetzen-boke.de/termin/ausmarsch-schuetzenfest-holsen-3/
END:VEVENT
BEGIN:VEVENT
DTSTART;TZID=Europe/Berlin:20250817T180000
DTEND;TZID=Europe/Berlin:20250817T180000
DTSTAMP:20260421T090342
CREATED:20240925T063833Z
LAST-MODIFIED:20250728T104142Z
UID:14503-1755453600-1755453600@www.schuetzen-boke.de
SUMMARY:Ausmarsch Schützenfest Bentfeld
DESCRIPTION:
URL:https://www.schuetzen-boke.de/termin/ausmarsch-schuetzenfest-bentfeld-3/
END:VEVENT
BEGIN:VEVENT
DTSTART;VALUE=DATE:20250811
DTEND;VALUE=DATE:20250813
DTSTAMP:20260421T090342
CREATED:20240925T064130Z
LAST-MODIFIED:20250702T165940Z
UID:14518-1754895600-1754981999@www.schuetzen-boke.de
SUMMARY:Schützenfest in Boke
DESCRIPTION:8:00            Feldgottesdienst an der Kirche für die verstorbenen Mitglieder der Schützenbruderschaft und der Kameradschaft\, danach Ehrungen. Ständchen für Ehrenpräses Martin Göke \n9:45            Schützenfrühstück und Frühschoppen im Festzelt\, Ehrungen \n14:30          Antreten auf dem Sportplatz am Bürgerhaus\, Abmarsch zum Ständchen beim Kronprinzen \n16:30          Kinderbelustigung im Festzelt \n18:30          Party mit DJ Niklas Sprenger \n  \nFlyer Schützenfest 2025
URL:https://www.schuetzen-boke.de/termin/schuetzenfest-in-boke-5/
LOCATION:Boker Straße 99\, 33129 Delbrück-Boke\, Boker Straße 99\, Delbrück - Boke\, 33129\, Deutschland
END:VEVENT
BEGIN:VEVENT
DTSTART;VALUE=DATE:20250810
DTEND;VALUE=DATE:20250812
DTSTAMP:20260421T090342
CREATED:20240925T064027Z
LAST-MODIFIED:20250712T094850Z
UID:14516-1754809200-1754895599@www.schuetzen-boke.de
SUMMARY:Schützenfest in Boke
DESCRIPTION:13:30          Antreten auf dem Sportplatz\, Abholen des Königspaares\, Festumzug durch die Gemeinde \n15:30          Parade auf dem Sportplatz am Bürgerhaus \n17:00          Gemeinschaftskonzert der Musikkapellen \n19:00          Party mit der Tanzkapelle Pilsgeschmack Etteln \n  \nFlyer Schützenfest 2025
URL:https://www.schuetzen-boke.de/termin/schuetzenfest-in-boke-4/
LOCATION:Boker Straße 99\, 33129 Delbrück-Boke\, Boker Straße 99\, Delbrück - Boke\, 33129\, Deutschland
END:VEVENT
BEGIN:VEVENT
DTSTART;VALUE=DATE:20250809
DTEND;VALUE=DATE:20250811
DTSTAMP:20260421T090342
CREATED:20240925T063833Z
LAST-MODIFIED:20250702T165839Z
UID:14502-1754722800-1754809199@www.schuetzen-boke.de
SUMMARY:Schützenfest in Boke
DESCRIPTION:15:00          Antreten auf dem Sportplatz am Bürgerhaus\, Einmarsch Königspaar und Hofstaat\, Abmarsch zur Kirche \n15:30          Festgottesdienst\, Gefallenenehrung\, Großer Zapfenstreich \n17:30          Ständchen für Apfel-\, Zepter- und Fassprinzen am Pfarrheim \n19:00          Festball mit der Tanzkapelle Pilsgeschmack Etteln und DJ Daniel Peitz \n  \nFlyer Schützenfest 2025
URL:https://www.schuetzen-boke.de/termin/schuetzenfest-in-boke-3/
LOCATION:Boker Straße 99\, 33129 Delbrück-Boke\, Boker Straße 99\, Delbrück - Boke\, 33129\, Deutschland
END:VEVENT
BEGIN:VEVENT
DTSTART;VALUE=DATE:20250726
DTEND;VALUE=DATE:20250728
DTSTAMP:20260421T090342
CREATED:20240925T063833Z
LAST-MODIFIED:20250702T165757Z
UID:14501-1753513200-1753599599@www.schuetzen-boke.de
SUMMARY:Vogelschießen in Boke
DESCRIPTION:14:00          Gottesdienst für die lebenden und verstorbenen Mitglieder der Schützenbruderschaft und der Kameradschaft ehemaliger Soldaten \n14:45          Antreten auf dem Kirchplatz und Abmarsch zum König Meinolf Berkemeier \n16:30          Vogelschießen der Jungschützen. Anschließend Proklamation des Jungschützenkönigs \n17:30          Beginn des Vogelschießens der Altschützen. Anschließend Proklamation des Königspaares \n20:00          Tanzabend im Bürgerhaus mit DJ Daniel Peitz \n  \nFlyer Schützenfest 2025
URL:https://www.schuetzen-boke.de/termin/vogelschiessen-in-boke-3/
END:VEVENT
BEGIN:VEVENT
DTSTART;VALUE=DATE:20250712
DTEND;VALUE=DATE:20250714
DTSTAMP:20260421T090342
CREATED:20240918T161111Z
LAST-MODIFIED:20240918T161142Z
UID:14487-1752303600-1752389999@www.schuetzen-boke.de
SUMMARY:Ausmarsch Schützenfest Thüle
DESCRIPTION:
URL:https://www.schuetzen-boke.de/termin/ausmarsch-schuetzenfest-thuele-3/
END:VEVENT
BEGIN:VEVENT
DTSTART;TZID=Europe/Berlin:20250705T130000
DTEND;TZID=Europe/Berlin:20250705T130000
DTSTAMP:20260421T090342
CREATED:20250609T111035Z
LAST-MODIFIED:20250609T111143Z
UID:15641-1751720400-1751720400@www.schuetzen-boke.de
SUMMARY:Schützenfest Anröchte
DESCRIPTION:Schützenfest AnröchteUnser Mitglied und Hofherr Franz-Josef Sievers lädt uns zu seinem Heimatverein\, dem Männerschützenverein Anröchte\, zum diesjährigen Schützenfest ein. \nHierfür hat der König Meinolf Berkemeier einen Kleinbus organisiert. \n  \nAblauf \n13:00 Uhr                Abfahrt Bus ab Bürgerhaus Boke \n15:15 Uhr               Abholen des Königs\, Einreihen in den Schützenzug \n16:00 Uhr                Ehrung und Ständchen beim 25-jährigen Jubelkönig \n16:45 Uhr                Ständchen Haus St. Elisabeth \n17:40 Uhr                Vorbeimarsch am Rathaus \n18:30 Uhr               Königstanz\, anschließend Festball \n23:00 Uhr               Rückfahrt \n  \nAnmeldungen bitte bis zum 30. Juni beim König Meinolf Berkemeier oder Oberstleutnant Matthias Leutnant. Wir freuen uns auf einen schönen Tag in Anröchte!
URL:https://www.schuetzen-boke.de/termin/schuetzenfest-anroechte/
END:VEVENT
BEGIN:VEVENT
DTSTART;VALUE=DATE:20250615
DTEND;VALUE=DATE:20250617
DTSTAMP:20260421T090342
CREATED:20241007T065654Z
LAST-MODIFIED:20250604T074249Z
UID:14529-1749970800-1750057199@www.schuetzen-boke.de
SUMMARY:Dorfmeisterschaft Luftgewehr\, 2. Tag
DESCRIPTION:
URL:https://www.schuetzen-boke.de/termin/dorfmeisterschaft-luftgewehr-2-tag/
LOCATION:Pharrheim Boke\, Quérénaingweg\, Quérénaingweg\, Delbrück - Boke\, 33129\, Deutschland
END:VEVENT
BEGIN:VEVENT
DTSTART;VALUE=DATE:20250615
DTEND;VALUE=DATE:20250617
DTSTAMP:20260421T090342
CREATED:20240918T161111Z
LAST-MODIFIED:20240918T161142Z
UID:14486-1749970800-1750057199@www.schuetzen-boke.de
SUMMARY:Landolinusprozession
DESCRIPTION:
URL:https://www.schuetzen-boke.de/termin/landolinusprozession-3/
END:VEVENT
BEGIN:VEVENT
DTSTART;VALUE=DATE:20250614
DTEND;VALUE=DATE:20250616
DTSTAMP:20260421T090342
CREATED:20241007T065444Z
LAST-MODIFIED:20250604T074226Z
UID:14523-1749884400-1749970799@www.schuetzen-boke.de
SUMMARY:Dorfmeisterschaft Luftgewehr
DESCRIPTION:
URL:https://www.schuetzen-boke.de/termin/dorfmeisterschaft-luftgewehr/
LOCATION:Pharrheim Boke\, Quérénaingweg\, Quérénaingweg\, Delbrück - Boke\, 33129\, Deutschland
END:VEVENT
BEGIN:VEVENT
DTSTART;TZID=Europe/Berlin:20250607T194500
DTEND;TZID=Europe/Berlin:20250607T194500
DTSTAMP:20260421T090342
CREATED:20240918T161111Z
LAST-MODIFIED:20250604T100549Z
UID:14485-1749325500-1749325500@www.schuetzen-boke.de
SUMMARY:Ausmarsch Schützenfest Anreppen
DESCRIPTION:
URL:https://www.schuetzen-boke.de/termin/ausmarsch-schuetzenfest-anreppen-3/
END:VEVENT
BEGIN:VEVENT
DTSTART;VALUE=DATE:20250528
DTEND;VALUE=DATE:20250530
DTSTAMP:20260421T090342
CREATED:20240918T161111Z
LAST-MODIFIED:20250521T063016Z
UID:14483-1748415600-1748501999@www.schuetzen-boke.de
SUMMARY:Kompanieabend
DESCRIPTION:Am Mittwoch\, den 28. Mai 2025 beginnen wir um 19:00 Uhr unseren diesjährigen Kompanieabend.\nAlle Schützenmitglieder und ihre Partner sind herzlich eingeladen\, \nan der Feldmarkstraße 36 zu feiern. Für das leibliche Wohl wird gesorgt.\nDer Kompanieabend der St.-Landolinus-Schützenbruderschaft ist in den vielen Jahren zur Tradition geworden. In geselliger Runde haben wir so manche unvergessene Stunde verbracht. Bringt also Stimmung und gute Laue mit\, dann kann unser Fest auch in diesem Jahr gelingen.\nEs freut sich auf Euer Kommen\, das Team vom Zug Ost und West.\n \nHubert Köthenbürger\nZugführer West\n \nMarkus Wesseler\nZugführer Ost
URL:https://www.schuetzen-boke.de/termin/kompanieabend-3/
ATTACH;FMTTYPE=image/jpeg:https://www.schuetzen-boke.de/wp-content/uploads/2024/09/Kompanieabend.jpeg
END:VEVENT
BEGIN:VEVENT
DTSTART;TZID=Europe/Berlin:20250525T130000
DTEND;TZID=Europe/Berlin:20250525T130000
DTSTAMP:20260421T090342
CREATED:20250513T161303Z
LAST-MODIFIED:20250513T161303Z
UID:15364-1748178000-1748178000@www.schuetzen-boke.de
SUMMARY:Schützenfest Delbrück
DESCRIPTION:Am Sonntag\, den 25. Mai 2025\, nehmen wir am Schützenfest in Delbrück teil. \nWir treffen uns hierfür um 13:00 Uhr bei Thorsten Protte am Bendixwall 4 zu einem Umtrunk. \nUm 14:15 Uhr treten wir an der Ladestr. zum großen Festumzug an. Anschließend lassen wir den Tag auf dem Festzelt in gemütlicher Runde ausklingen. \nTeilnahme in Uniform mit Schärpe\, Mütze und Jacke.
URL:https://www.schuetzen-boke.de/termin/schuetzenfest-delbrueck/
ATTACH;FMTTYPE=image/jpeg:https://www.schuetzen-boke.de/wp-content/uploads/2025/05/PHOTO-2025-05-09-18-11-01.jpg
END:VEVENT
BEGIN:VEVENT
DTSTART;TZID=Europe/Berlin:20250515T140000
DTEND;TZID=Europe/Berlin:20250515T140000
DTSTAMP:20260421T090342
CREATED:20250513T160719Z
LAST-MODIFIED:20250513T160801Z
UID:15361-1747317600-1747317600@www.schuetzen-boke.de
SUMMARY:Beisetzung Lothar Tweesmann
DESCRIPTION:Die St.-Landolinus Schützenbruderschaft nimmt an der Beisetzung vom Schützenbruder Lothar Tweesmann teil. \nDiese findet am Do.\, 15. Mai 2025\, um 14 Uhr statt. \nTreffpunkt: Friedhofskapelle\, anschließend Beisetzung auf dem Friedhof. \nWir bitten um Teilnahme in Uniform.
URL:https://www.schuetzen-boke.de/termin/beisetzung-lothar-tweesmann/
END:VEVENT
BEGIN:VEVENT
DTSTART;TZID=Europe/Berlin:20250514T140000
DTEND;TZID=Europe/Berlin:20250514T170000
DTSTAMP:20260421T090342
CREATED:20250513T160453Z
LAST-MODIFIED:20250513T160453Z
UID:15359-1747231200-1747242000@www.schuetzen-boke.de
SUMMARY:Beisetzung Josef Oppermann
DESCRIPTION:Die St.-Landolinus Schützenbruderschaft nimmt an der Beisetzung vom Schützenbruder Josef Oppermann teil. \nDiese findet am Mi.\, 14. Mai 2025\, um 14 Uhr statt. \nTreffpunkt: Kirche\, anschließend Beisetzung auf dem Friedhof. \nWir bitten um Teilnahme in Uniform.
URL:https://www.schuetzen-boke.de/termin/beisetzung-josef-oppermann/
END:VEVENT
END:VCALENDAR