BEGIN:VCALENDAR
VERSION:2.0
PRODID:-//St.-Landolinus-Schützenbruderschaft Boke e. V. - ECPv6.6.0.2//NONSGML v1.0//EN
CALSCALE:GREGORIAN
METHOD:PUBLISH
X-WR-CALNAME:St.-Landolinus-Schützenbruderschaft Boke e. V.
X-ORIGINAL-URL:https://www.schuetzen-boke.de
X-WR-CALDESC:Veranstaltungen für St.-Landolinus-Schützenbruderschaft Boke e. V.
REFRESH-INTERVAL;VALUE=DURATION:PT1H
X-Robots-Tag:noindex
X-PUBLISHED-TTL:PT1H
BEGIN:VTIMEZONE
TZID:Europe/Berlin
BEGIN:DAYLIGHT
TZOFFSETFROM:+0100
TZOFFSETTO:+0200
TZNAME:CEST
DTSTART:20260329T010000
END:DAYLIGHT
BEGIN:STANDARD
TZOFFSETFROM:+0200
TZOFFSETTO:+0100
TZNAME:CET
DTSTART:20261025T010000
END:STANDARD
END:VTIMEZONE
BEGIN:VEVENT
DTSTART;VALUE=DATE:20260822
DTEND;VALUE=DATE:20260824
DTSTAMP:20260421T090305
CREATED:20250923T120814Z
LAST-MODIFIED:20250923T120814Z
UID:16979-1787382000-1787468399@www.schuetzen-boke.de
SUMMARY:Schützenfest in Holsen
DESCRIPTION:
URL:https://www.schuetzen-boke.de/termin/schuetzenfest-in-holsen/
END:VEVENT
BEGIN:VEVENT
DTSTART;VALUE=DATE:20260905
DTEND;VALUE=DATE:20260907
DTSTAMP:20260421T090305
CREATED:20250923T120909Z
LAST-MODIFIED:20250923T120909Z
UID:16981-1788591600-1788677999@www.schuetzen-boke.de
SUMMARY:Kreisschützenfest in Salzkotten
DESCRIPTION:
URL:https://www.schuetzen-boke.de/termin/kreisschuetzenfest-in-salzkotten/
END:VEVENT
BEGIN:VEVENT
DTSTART;VALUE=DATE:20260906
DTEND;VALUE=DATE:20260908
DTSTAMP:20260421T090305
CREATED:20250923T120931Z
LAST-MODIFIED:20250923T120931Z
UID:16983-1788678000-1788764399@www.schuetzen-boke.de
SUMMARY:Kreisschützenfest in Salzkotten
DESCRIPTION:
URL:https://www.schuetzen-boke.de/termin/kreisschuetzenfest-in-salzkotten-2/
END:VEVENT
BEGIN:VEVENT
DTSTART;VALUE=DATE:20260918
DTEND;VALUE=DATE:20260920
DTSTAMP:20260421T090305
CREATED:20250923T121004Z
LAST-MODIFIED:20250923T121004Z
UID:16985-1789714800-1789801199@www.schuetzen-boke.de
SUMMARY:Katharinenmarkt-Lotterie
DESCRIPTION:
URL:https://www.schuetzen-boke.de/termin/katharinenmarkt-lotterie/
END:VEVENT
BEGIN:VEVENT
DTSTART;VALUE=DATE:20260919
DTEND;VALUE=DATE:20260921
DTSTAMP:20260421T090305
CREATED:20250923T121043Z
LAST-MODIFIED:20250923T121043Z
UID:16987-1789801200-1789887599@www.schuetzen-boke.de
SUMMARY:Katharinenmarkt-Lotterie
DESCRIPTION:
URL:https://www.schuetzen-boke.de/termin/katharinenmarkt-lotterie-2/
END:VEVENT
BEGIN:VEVENT
DTSTART;VALUE=DATE:20260920
DTEND;VALUE=DATE:20260922
DTSTAMP:20260421T090305
CREATED:20250923T121056Z
LAST-MODIFIED:20250923T121056Z
UID:16989-1789887600-1789973999@www.schuetzen-boke.de
SUMMARY:Katharinenmarkt-Lotterie
DESCRIPTION:
URL:https://www.schuetzen-boke.de/termin/katharinenmarkt-lotterie-3/
END:VEVENT
BEGIN:VEVENT
DTSTART;VALUE=DATE:20261009
DTEND;VALUE=DATE:20261011
DTSTAMP:20260421T090305
CREATED:20250923T121133Z
LAST-MODIFIED:20250923T121133Z
UID:16991-1791529200-1791615599@www.schuetzen-boke.de
SUMMARY:Kaiserschießen in Boke
DESCRIPTION:
URL:https://www.schuetzen-boke.de/termin/kaiserschiessen-in-boke/
END:VEVENT
BEGIN:VEVENT
DTSTART;VALUE=DATE:20261010
DTEND;VALUE=DATE:20261012
DTSTAMP:20260421T090305
CREATED:20250923T121158Z
LAST-MODIFIED:20250923T121158Z
UID:16993-1791615600-1791701999@www.schuetzen-boke.de
SUMMARY:Bezirksverbandstag in Boke
DESCRIPTION:
URL:https://www.schuetzen-boke.de/termin/bezirksverbandstag-in-boke/
END:VEVENT
BEGIN:VEVENT
DTSTART;VALUE=DATE:20261115
DTEND;VALUE=DATE:20261117
DTSTAMP:20260421T090305
CREATED:20250923T121331Z
LAST-MODIFIED:20250923T121331Z
UID:16997-1794726000-1794812399@www.schuetzen-boke.de
SUMMARY:Volkstrauertag
DESCRIPTION:
URL:https://www.schuetzen-boke.de/termin/volkstrauertag-3/
END:VEVENT
END:VCALENDAR