BEGIN:VCALENDAR
VERSION:2.0
PRODID:-//St.-Landolinus-Schützenbruderschaft Boke e. V. - ECPv6.6.0.2//NONSGML v1.0//EN
CALSCALE:GREGORIAN
METHOD:PUBLISH
X-ORIGINAL-URL:https://www.schuetzen-boke.de
X-WR-CALDESC:Veranstaltungen für St.-Landolinus-Schützenbruderschaft Boke e. V.
REFRESH-INTERVAL;VALUE=DURATION:PT1H
X-Robots-Tag:noindex
X-PUBLISHED-TTL:PT1H
BEGIN:VTIMEZONE
TZID:Europe/Berlin
BEGIN:DAYLIGHT
TZOFFSETFROM:+0100
TZOFFSETTO:+0200
TZNAME:CEST
DTSTART:20240331T010000
END:DAYLIGHT
BEGIN:STANDARD
TZOFFSETFROM:+0200
TZOFFSETTO:+0100
TZNAME:CET
DTSTART:20241027T010000
END:STANDARD
END:VTIMEZONE
BEGIN:VEVENT
DTSTART;TZID=Europe/Berlin:20240504T120000
DTEND;TZID=Europe/Berlin:20240504T120000
DTSTAMP:20260423T003629
CREATED:20240109T184827Z
LAST-MODIFIED:20240411T141407Z
UID:528-1714824000-1714824000@www.schuetzen-boke.de
SUMMARY:Ausflug Schützenbruderschaft
DESCRIPTION:Info Schützenausflug 2024 \nBesuch des Heidelberg-Zementwerks in Geseke
URL:https://www.schuetzen-boke.de/termin/ausflug-schuetzenbruderschaft-3/
END:VEVENT
BEGIN:VEVENT
DTSTART;TZID=Europe/Berlin:20240508T190000
DTEND;TZID=Europe/Berlin:20240508T190000
DTSTAMP:20260423T003629
CREATED:20240109T184827Z
LAST-MODIFIED:20240411T141159Z
UID:529-1715194800-1715194800@www.schuetzen-boke.de
SUMMARY:Kompanieabend
DESCRIPTION:
URL:https://www.schuetzen-boke.de/termin/kompanieabend-2/
LOCATION:Hof Kößmeier\, Kiliansdamm 20
END:VEVENT
BEGIN:VEVENT
DTSTART;TZID=Europe/Berlin:20240511T193000
DTEND;TZID=Europe/Berlin:20240511T193000
DTSTAMP:20260423T003629
CREATED:20240109T184840Z
LAST-MODIFIED:20240510T081845Z
UID:530-1715455800-1715455800@www.schuetzen-boke.de
SUMMARY:Ausmarsch Schützenfest Mantinghausen
DESCRIPTION:
URL:https://www.schuetzen-boke.de/termin/ausmarsch-schuetzenfest-mantinghausen-2/
ATTACH;FMTTYPE=image/png:https://www.schuetzen-boke.de/wp-content/uploads/2024/01/Mantinghausen.png
END:VEVENT
BEGIN:VEVENT
DTSTART;TZID=Europe/Berlin:20240519T153000
DTEND;TZID=Europe/Berlin:20240519T153000
DTSTAMP:20260423T003629
CREATED:20240109T184840Z
LAST-MODIFIED:20240510T081715Z
UID:531-1716132600-1716132600@www.schuetzen-boke.de
SUMMARY:Ausmarsch Schützenfest Anreppen
DESCRIPTION:
URL:https://www.schuetzen-boke.de/termin/ausmarsch-schuetzenfest-anreppen-2/
ATTACH;FMTTYPE=image/png:https://www.schuetzen-boke.de/wp-content/uploads/2024/01/Anreppen2024.png
END:VEVENT
END:VCALENDAR