BEGIN:VCALENDAR
VERSION:2.0
PRODID:-//St.-Landolinus-Schützenbruderschaft Boke e. V. - ECPv6.6.0.2//NONSGML v1.0//EN
CALSCALE:GREGORIAN
METHOD:PUBLISH
X-ORIGINAL-URL:https://www.schuetzen-boke.de
X-WR-CALDESC:Veranstaltungen für St.-Landolinus-Schützenbruderschaft Boke e. V.
REFRESH-INTERVAL;VALUE=DURATION:PT1H
X-Robots-Tag:noindex
X-PUBLISHED-TTL:PT1H
BEGIN:VTIMEZONE
TZID:Europe/Berlin
BEGIN:DAYLIGHT
TZOFFSETFROM:+0100
TZOFFSETTO:+0200
TZNAME:CEST
DTSTART:20240331T010000
END:DAYLIGHT
BEGIN:STANDARD
TZOFFSETFROM:+0200
TZOFFSETTO:+0100
TZNAME:CET
DTSTART:20241027T010000
END:STANDARD
END:VTIMEZONE
BEGIN:VEVENT
DTSTART;VALUE=DATE:20240810
DTEND;VALUE=DATE:20240814
DTSTAMP:20260422T210630
CREATED:20240109T184957Z
LAST-MODIFIED:20240801T182050Z
UID:539-1723273200-1723532399@www.schuetzen-boke.de
SUMMARY:Schützenfest in Boke
DESCRIPTION:Samstag\, 10. August 2024 \n  \n14:00          Antreten auf dem Sportplatz am Bürgerhaus\, Einmarsch Königspaar und Hofstaat\, Abmarsch zur Kirche \n14:30          Festgottesdienst\, Gefallenenehrung\, Großer Zapfenstreich \n16:30          Ständchen für Apfel-\, Zepter- und Fassprinzen am Pfarrheim \n17:30          Ständchen beim Jubelkönig von 1999\, Hubert Köthenbürger\, Taubenweg \n19:00          Festball mit der Tanzkapelle Pilsgeschmack Etteln und DJ Niklas Sprenger \n  \n  \nSonntag\, 11. August 2024 \n  \n13:30          Antreten auf dem Sportplatz\, Abholen des Königspaares\, Festumzug durch die Gemeinde \n15:30          Parade auf dem Sportplatz am Bürgerhaus \n17:00          Gemeinschafskonzert der Musikkapellen \n19:00          Party mit der Tanzkapelle Pilsgeschmack Etteln \n  \n  \nMontag\, 12. August 2024 \n  \n8:00            Feldgottesdienst an der Kirche für die verstorbenen Mitglieder der Schützenbruderschaft und der Kameradschaft\, danach Ehrungen. Ständchen für Ehrenpräses Martin Göke \n9:45            Schützenfrühstück und Frühschoppen im Festzelt\, Ehrungen \n14:30          Antreten auf dem Sportplatz am Bürgerhaus\, Abmarsch zum Ständchen beim Kronprinzen \n16:30          Kinderbelustigung im Festzelt \n18:30          Party mit DJ Daniel Peitz
URL:https://www.schuetzen-boke.de/termin/schuetzenfest-in-boke-2/
END:VEVENT
BEGIN:VEVENT
DTSTART;TZID=Europe/Berlin:20240817T191500
DTEND;TZID=Europe/Berlin:20240817T191500
DTSTAMP:20260422T210630
CREATED:20240109T171726Z
LAST-MODIFIED:20240813T125326Z
UID:472-1723922100-1723922100@www.schuetzen-boke.de
SUMMARY:Ausmarsch Schützenfest Bentfeld
DESCRIPTION:
URL:https://www.schuetzen-boke.de/termin/ausmarsch-schuetzenfest-bentfeld/
END:VEVENT
BEGIN:VEVENT
DTSTART;TZID=Europe/Berlin:20240824T190000
DTEND;TZID=Europe/Berlin:20240824T190000
DTSTAMP:20260422T210630
CREATED:20240109T171824Z
LAST-MODIFIED:20240801T182215Z
UID:473-1724526000-1724526000@www.schuetzen-boke.de
SUMMARY:Ausmarsch Schützenfest Holsen
DESCRIPTION:
URL:https://www.schuetzen-boke.de/termin/ausmarsch-schuetzenfest-holsen/
END:VEVENT
BEGIN:VEVENT
DTSTART;TZID=Europe/Berlin:20240825T140000
DTEND;TZID=Europe/Berlin:20240825T140000
DTSTAMP:20260422T210630
CREATED:20240813T125440Z
LAST-MODIFIED:20240813T125440Z
UID:13695-1724594400-1724594400@www.schuetzen-boke.de
SUMMARY:Ausmarsch Schützenfest Sudhagen
DESCRIPTION:
URL:https://www.schuetzen-boke.de/termin/ausmarsch-schuetzenfest-sudhagen/
END:VEVENT
BEGIN:VEVENT
DTSTART;VALUE=DATE:20240831
DTEND;VALUE=DATE:20240903
DTSTAMP:20260422T210630
CREATED:20240109T171824Z
LAST-MODIFIED:20240823T070241Z
UID:474-1725087600-1725260399@www.schuetzen-boke.de
SUMMARY:Kreisschützenfest in Upsprunge
DESCRIPTION:
URL:https://www.schuetzen-boke.de/termin/kreisschuetzenfest-in-upsprunge/
ATTACH;FMTTYPE=image/png:https://www.schuetzen-boke.de/wp-content/uploads/2024/01/KSF-2024.png
END:VEVENT
END:VCALENDAR