BEGIN:VCALENDAR
VERSION:2.0
PRODID:-//St.-Landolinus-Schützenbruderschaft Boke e. V. - ECPv6.6.0.2//NONSGML v1.0//EN
CALSCALE:GREGORIAN
METHOD:PUBLISH
X-WR-CALNAME:St.-Landolinus-Schützenbruderschaft Boke e. V.
X-ORIGINAL-URL:https://www.schuetzen-boke.de
X-WR-CALDESC:Veranstaltungen für St.-Landolinus-Schützenbruderschaft Boke e. V.
REFRESH-INTERVAL;VALUE=DURATION:PT1H
X-Robots-Tag:noindex
X-PUBLISHED-TTL:PT1H
BEGIN:VTIMEZONE
TZID:Europe/Berlin
BEGIN:DAYLIGHT
TZOFFSETFROM:+0100
TZOFFSETTO:+0200
TZNAME:CEST
DTSTART:20250330T010000
END:DAYLIGHT
BEGIN:STANDARD
TZOFFSETFROM:+0200
TZOFFSETTO:+0100
TZNAME:CET
DTSTART:20251026T010000
END:STANDARD
END:VTIMEZONE
BEGIN:VEVENT
DTSTART;VALUE=DATE:20250511
DTEND;VALUE=DATE:20250513
DTSTAMP:20260422T044216
CREATED:20240918T161111Z
LAST-MODIFIED:20240918T161142Z
UID:14484-1746946800-1747033199@www.schuetzen-boke.de
SUMMARY:Ausmarsch Schützenfest Mantinghausen
DESCRIPTION:
URL:https://www.schuetzen-boke.de/termin/ausmarsch-schuetzenfest-mantinghausen-3/
END:VEVENT
BEGIN:VEVENT
DTSTART;TZID=Europe/Berlin:20250514T140000
DTEND;TZID=Europe/Berlin:20250514T170000
DTSTAMP:20260422T044216
CREATED:20250513T160453Z
LAST-MODIFIED:20250513T160453Z
UID:15359-1747231200-1747242000@www.schuetzen-boke.de
SUMMARY:Beisetzung Josef Oppermann
DESCRIPTION:Die St.-Landolinus Schützenbruderschaft nimmt an der Beisetzung vom Schützenbruder Josef Oppermann teil. \nDiese findet am Mi.\, 14. Mai 2025\, um 14 Uhr statt. \nTreffpunkt: Kirche\, anschließend Beisetzung auf dem Friedhof. \nWir bitten um Teilnahme in Uniform.
URL:https://www.schuetzen-boke.de/termin/beisetzung-josef-oppermann/
END:VEVENT
BEGIN:VEVENT
DTSTART;TZID=Europe/Berlin:20250515T140000
DTEND;TZID=Europe/Berlin:20250515T140000
DTSTAMP:20260422T044216
CREATED:20250513T160719Z
LAST-MODIFIED:20250513T160801Z
UID:15361-1747317600-1747317600@www.schuetzen-boke.de
SUMMARY:Beisetzung Lothar Tweesmann
DESCRIPTION:Die St.-Landolinus Schützenbruderschaft nimmt an der Beisetzung vom Schützenbruder Lothar Tweesmann teil. \nDiese findet am Do.\, 15. Mai 2025\, um 14 Uhr statt. \nTreffpunkt: Friedhofskapelle\, anschließend Beisetzung auf dem Friedhof. \nWir bitten um Teilnahme in Uniform.
URL:https://www.schuetzen-boke.de/termin/beisetzung-lothar-tweesmann/
END:VEVENT
BEGIN:VEVENT
DTSTART;TZID=Europe/Berlin:20250525T130000
DTEND;TZID=Europe/Berlin:20250525T130000
DTSTAMP:20260422T044216
CREATED:20250513T161303Z
LAST-MODIFIED:20250513T161303Z
UID:15364-1748178000-1748178000@www.schuetzen-boke.de
SUMMARY:Schützenfest Delbrück
DESCRIPTION:Am Sonntag\, den 25. Mai 2025\, nehmen wir am Schützenfest in Delbrück teil. \nWir treffen uns hierfür um 13:00 Uhr bei Thorsten Protte am Bendixwall 4 zu einem Umtrunk. \nUm 14:15 Uhr treten wir an der Ladestr. zum großen Festumzug an. Anschließend lassen wir den Tag auf dem Festzelt in gemütlicher Runde ausklingen. \nTeilnahme in Uniform mit Schärpe\, Mütze und Jacke.
URL:https://www.schuetzen-boke.de/termin/schuetzenfest-delbrueck/
ATTACH;FMTTYPE=image/jpeg:https://www.schuetzen-boke.de/wp-content/uploads/2025/05/PHOTO-2025-05-09-18-11-01.jpg
END:VEVENT
BEGIN:VEVENT
DTSTART;VALUE=DATE:20250528
DTEND;VALUE=DATE:20250530
DTSTAMP:20260422T044216
CREATED:20240918T161111Z
LAST-MODIFIED:20250521T063016Z
UID:14483-1748415600-1748501999@www.schuetzen-boke.de
SUMMARY:Kompanieabend
DESCRIPTION:Am Mittwoch\, den 28. Mai 2025 beginnen wir um 19:00 Uhr unseren diesjährigen Kompanieabend.\nAlle Schützenmitglieder und ihre Partner sind herzlich eingeladen\, \nan der Feldmarkstraße 36 zu feiern. Für das leibliche Wohl wird gesorgt.\nDer Kompanieabend der St.-Landolinus-Schützenbruderschaft ist in den vielen Jahren zur Tradition geworden. In geselliger Runde haben wir so manche unvergessene Stunde verbracht. Bringt also Stimmung und gute Laue mit\, dann kann unser Fest auch in diesem Jahr gelingen.\nEs freut sich auf Euer Kommen\, das Team vom Zug Ost und West.\n \nHubert Köthenbürger\nZugführer West\n \nMarkus Wesseler\nZugführer Ost
URL:https://www.schuetzen-boke.de/termin/kompanieabend-3/
ATTACH;FMTTYPE=image/jpeg:https://www.schuetzen-boke.de/wp-content/uploads/2024/09/Kompanieabend.jpeg
END:VEVENT
END:VCALENDAR