BEGIN:VCALENDAR
VERSION:2.0
PRODID:-//St.-Landolinus-Schützenbruderschaft Boke e. V. - ECPv6.6.0.2//NONSGML v1.0//EN
CALSCALE:GREGORIAN
METHOD:PUBLISH
X-ORIGINAL-URL:https://www.schuetzen-boke.de
X-WR-CALDESC:Veranstaltungen für St.-Landolinus-Schützenbruderschaft Boke e. V.
REFRESH-INTERVAL;VALUE=DURATION:PT1H
X-Robots-Tag:noindex
X-PUBLISHED-TTL:PT1H
BEGIN:VTIMEZONE
TZID:Europe/Berlin
BEGIN:DAYLIGHT
TZOFFSETFROM:+0100
TZOFFSETTO:+0200
TZNAME:CEST
DTSTART:20260329T010000
END:DAYLIGHT
BEGIN:STANDARD
TZOFFSETFROM:+0200
TZOFFSETTO:+0100
TZNAME:CET
DTSTART:20261025T010000
END:STANDARD
END:VTIMEZONE
BEGIN:VEVENT
DTSTART;VALUE=DATE:20260303
DTEND;VALUE=DATE:20260305
DTSTAMP:20260421T111629
CREATED:20250923T111648Z
LAST-MODIFIED:20251203T205145Z
UID:16956-1772521200-1772607599@www.schuetzen-boke.de
SUMMARY:Vereinsmeisterschaft Tag 2
DESCRIPTION:
URL:https://www.schuetzen-boke.de/termin/vereinsmeisterschaft-tag-2/
END:VEVENT
BEGIN:VEVENT
DTSTART;VALUE=DATE:20260307
DTEND;VALUE=DATE:20260309
DTSTAMP:20260421T111629
CREATED:20251203T122146Z
LAST-MODIFIED:20251203T122146Z
UID:17072-1772866800-1772953199@www.schuetzen-boke.de
SUMMARY:Jahreshauptversammlung im Pfarrheim
DESCRIPTION:
URL:https://www.schuetzen-boke.de/termin/jahreshauptversammlung-im-pfarrheim/
LOCATION:Pharrheim Boke\, Quérénaingweg\, Quérénaingweg\, Delbrück - Boke\, 33129\, Deutschland
END:VEVENT
END:VCALENDAR