BEGIN:VCALENDAR
VERSION:2.0
PRODID:-//St.-Landolinus-Schützenbruderschaft Boke e. V. - ECPv6.6.0.2//NONSGML v1.0//EN
CALSCALE:GREGORIAN
METHOD:PUBLISH
X-ORIGINAL-URL:https://www.schuetzen-boke.de
X-WR-CALDESC:Veranstaltungen für St.-Landolinus-Schützenbruderschaft Boke e. V.
REFRESH-INTERVAL;VALUE=DURATION:PT1H
X-Robots-Tag:noindex
X-PUBLISHED-TTL:PT1H
BEGIN:VTIMEZONE
TZID:Europe/Berlin
BEGIN:DAYLIGHT
TZOFFSETFROM:+0100
TZOFFSETTO:+0200
TZNAME:CEST
DTSTART:20260329T010000
END:DAYLIGHT
BEGIN:STANDARD
TZOFFSETFROM:+0200
TZOFFSETTO:+0100
TZNAME:CET
DTSTART:20261025T010000
END:STANDARD
END:VTIMEZONE
BEGIN:VEVENT
DTSTART;VALUE=DATE:20260711
DTEND;VALUE=DATE:20260713
DTSTAMP:20260421T143604
CREATED:20250923T112228Z
LAST-MODIFIED:20260103T210651Z
UID:16967-1783753200-1783839599@www.schuetzen-boke.de
SUMMARY:Schützenfest Thüle
DESCRIPTION:
URL:https://www.schuetzen-boke.de/termin/schuetzenfest-thuele/
END:VEVENT
BEGIN:VEVENT
DTSTART;VALUE=DATE:20260725
DTEND;VALUE=DATE:20260727
DTSTAMP:20260421T143604
CREATED:20250923T112328Z
LAST-MODIFIED:20250923T120600Z
UID:16969-1784962800-1785049199@www.schuetzen-boke.de
SUMMARY:Vogelschießen in Boke
DESCRIPTION:
URL:https://www.schuetzen-boke.de/termin/vogelschiessen-in-boke-4/
LOCATION:Boker Straße 99\, 33129 Delbrück-Boke\, Boker Straße 99\, Delbrück - Boke\, 33129\, Deutschland
END:VEVENT
END:VCALENDAR